BEGIN:VCALENDAR
VERSION:2.0
PRODID:-//ChamberMaster//Event Calendar 2.0//EN
METHOD:PUBLISH
X-PUBLISHED-TTL:P3D
REFRESH-INTERVAL:P3D
CALSCALE:GREGORIAN
BEGIN:VEVENT
DTSTART:20210617T150000Z
DTEND:20210617T160000Z
X-MICROSOFT-CDO-ALLDAYEVENT:FALSE
SUMMARY:Sterling Retail Businesses Meeting
DESCRIPTION:Retail business owners meeting to discuss topics that affect them and plan activities to promote their businesses. All business owners or representatives are welcome. For more information call Glenna at 970-522-5070.
X-ALT-DESC;FMTTYPE=text/html:Retail business owners meeting to discuss topics that affect them and plan activities to promote their businesses. All business owners or representatives are welcome. For more information call Glenna at 970-522-5070.
LOCATION:Webinar
UID:e.432.14733
SEQUENCE:3
DTSTAMP:20260425T202952Z
URL:https://business.logancountychamber.com/events/details/sterling-retail-businesses-meeting-06-17-2021-14733
END:VEVENT

END:VCALENDAR
