BEGIN:VCALENDAR
VERSION:2.0
PRODID:-//ChamberMaster//Event Calendar 2.0//EN
METHOD:PUBLISH
X-PUBLISHED-TTL:P3D
REFRESH-INTERVAL:P3D
CALSCALE:GREGORIAN
BEGIN:VEVENT
DTSTART:20270218T150000Z
DTEND:20270218T160000Z
X-MICROSOFT-CDO-ALLDAYEVENT:FALSE
SUMMARY:Downtown Sterling Meeting
DESCRIPTION:Retail business owners meeting to discuss topics that affect them and plan activities to promote their businesses. All business owners or representatives are welcome. For more information call Caitlin at 970-522-5070.
X-ALT-DESC;FMTTYPE=text/html:Retail business owners meeting to discuss topics that affect them and plan activities to promote their businesses. All business owners or representatives are welcome. For more information call Caitlin at 970-522-5070.
LOCATION:In Person at Logan County Chamber 109 N Front Street
UID:e.432.14801
SEQUENCE:3
DTSTAMP:20260420T105018Z
URL:https://business.logancountychamber.com/events/details/sterling-retail-businesses-meeting-02-18-2027-14801
END:VEVENT

END:VCALENDAR
