BEGIN:VCALENDAR
VERSION:2.0
PRODID:-//ChamberMaster//Event Calendar 2.0//EN
METHOD:PUBLISH
X-PUBLISHED-TTL:P3D
REFRESH-INTERVAL:P3D
CALSCALE:GREGORIAN
BEGIN:VEVENT
DTSTART:20210301T160000Z
DTEND:20210302T010000Z
X-MICROSOFT-CDO-ALLDAYEVENT:FALSE
SUMMARY:Sterling Public Library- Quilt Show
DESCRIPTION:Annual March 2021 Quilt Show. Quilts will be displayed throughout the library for everyone to enjoy. Quilts will be on display March 1 through March 31.  There will be a prize given for the People's Choice Award.
X-ALT-DESC;FMTTYPE=text/html:<span style="font-family:arial\;"><span style="font-size:12px\;"><span style="font-size:14px\;">Annual March 2021 Quilt Show. Quilts will be displayed throughout the library for everyone to enjoy.&nbsp\;Quilts will be on display March 1 through March 31.&nbsp\; There will be a prize given for the People&#39\;s Choice Award</span>. &nbsp\;&nbsp\;</span></span>
LOCATION:420 N. 5th Street Sterling\, CO 80751
UID:e.432.18042
SEQUENCE:3
DTSTAMP:20260422T222229Z
URL:https://business.logancountychamber.com/events/details/sterling-public-library-quilt-show-18042
END:VEVENT

END:VCALENDAR
