BEGIN:VCALENDAR
VERSION:2.0
PRODID:-//ChamberMaster//Event Calendar 2.0//EN
METHOD:PUBLISH
X-PUBLISHED-TTL:P3D
REFRESH-INTERVAL:P3D
CALSCALE:GREGORIAN
BEGIN:VEVENT
DTSTART;VALUE=DATE:20260410
DTEND;VALUE=DATE:20260413
TRANSP:TRANSPARENT
X-MICROSOFT-CDO-ALLDAYEVENT:TRUE
SUMMARY:Sterling High School Presents- Grease 2026
DESCRIPTION:Sterling High School Presents "Grease"\n\nFriday 10th and Saturday at 7pm\n\nSunday 12th- 3pm
X-ALT-DESC;FMTTYPE=text/html:<strong><span style="font-size:16px\;"><span style="color:#FF8C00\;">Sterling High School Presents &quot\;Grease&quot\;</span></span></strong><br />\nFriday 10th and Saturday at 7pm<br />\nSunday 12th- 3pm
LOCATION:High School Auditorium
UID:e.432.24495
SEQUENCE:3
DTSTAMP:20260422T025917Z
URL:https://business.logancountychamber.com/events/details/sterling-high-school-presents-grease-2026-24495
END:VEVENT

END:VCALENDAR
