BEGIN:VCALENDAR
VERSION:2.0
PRODID:-//ChamberMaster//Event Calendar 2.0//EN
METHOD:PUBLISH
X-PUBLISHED-TTL:P3D
REFRESH-INTERVAL:P3D
CALSCALE:GREGORIAN
BEGIN:VEVENT
DTSTART:20200119T010000Z
DTEND:20200119T040000Z
X-MICROSOFT-CDO-ALLDAYEVENT:FALSE
SUMMARY:Fundraiser for Scott Legg
DESCRIPTION:Scott Legg's Spaghetti Dinner & Auction. $20 per ticket. Meal includes: Spaghetti & Garlic Bread. Drinks not included - "Live Auction" following dinner. All proceeds will go towards Scott Legg's medical expenses.\n\n\n\n\n\n\n\n\n\nScott Legg's Spaghetti Dinner & Auction
X-ALT-DESC;FMTTYPE=text/html:Scott Legg&#39\;s Spaghetti Dinner &amp\; Auction. $20 per ticket. Meal includes: Spaghetti &amp\; Garlic Bread. Drinks not included - &quot\;Live Auction&quot\; following dinner. All proceeds will go towards Scott Legg&#39\;s medical expenses.<br />\n<br />\n<br />\n<br />\n<br />\n<a href="https://chambermaster.blob.core.windows.net/userfiles/UserFiles/chambers/432/File/FundraiserforScottLegg002.jpg">Scott Legg&#39\;s Spaghetti Dinner &amp\; Auction</a>
LOCATION:Sterling Elk's Lodge\, 321 Ash Street\, Sterling\, CO 80751
UID:e.432.15969
SEQUENCE:3
DTSTAMP:20260423T012053Z
URL:https://business.logancountychamber.com/events/details/fundraiser-for-scott-legg-15969
END:VEVENT

END:VCALENDAR
