BEGIN:VCALENDAR
VERSION:2.0
PRODID:-//ChamberMaster//Event Calendar 2.0//EN
METHOD:PUBLISH
X-PUBLISHED-TTL:P3D
REFRESH-INTERVAL:P3D
CALSCALE:GREGORIAN
BEGIN:VEVENT
DTSTART:20250125T143000Z
DTEND:20250125T233000Z
X-MICROSOFT-CDO-ALLDAYEVENT:FALSE
SUMMARY:ECCLPS/NJC ECE Conference
DESCRIPTION:We want to invite anyone who works with or cares for children to join us\, ECE Educators\, Family Child Care Home Providers\, Center Directors and Staff\, Parents\, Grandparents\, Foster Parents or if you are interested in becoming a licensed provider. This is a great opportunity to earn up to 7 hours of the required 15 training hours for licensing\, to learn new and different approaches to teaching young children\, to learn more about what it takes to work with children who may learn differently\, and to discover more of the resources available in our tri-county area. Plus\, breakfast and lunch will be provided! Early bird registration ends January 10th. If you register before then it will only cost $50\, from the 10th - 17th cost will be $65. Please call 970-526-2440 for more information.
X-ALT-DESC;FMTTYPE=text/html:We want to invite anyone who works with or cares for children to join us\, ECE Educators\, Family Child Care Home Providers\, Center Directors and Staff\, Parents\, Grandparents\, Foster Parents or if you are interested in becoming a licensed provider. This is a great opportunity to earn up to 7 hours of the required 15 training hours for licensing\, to learn new and different approaches to teaching young children\, to learn more about what it takes to work with children who may learn differently\, and to discover more of the resources available in our tri-county area. Plus\, breakfast and lunch will be provided! Early bird registration ends January 10th. If you register before then it will only cost $50\, from the 10th - 17th cost will be $65. Please call 970-526-2440 for more information.
LOCATION:NJC ESFrench Hall Registration form: https://docs.google.com/forms/d/e/1FAIpQLSdtYT86l_RSDFRhcrcxlx7l9UfAvERqS2Zf_MoJYcgXYyoLdA/viewform?usp=sf_link
UID:e.432.23481
SEQUENCE:3
DTSTAMP:20260424T170028Z
URL:https://business.logancountychamber.com/events/details/ecclps-njc-ece-conference-01-25-2025-23481
END:VEVENT

END:VCALENDAR
