BEGIN:VCALENDAR
VERSION:2.0
PRODID:-//ChamberMaster//Event Calendar 2.0//EN
METHOD:PUBLISH
X-PUBLISHED-TTL:P3D
REFRESH-INTERVAL:P3D
CALSCALE:GREGORIAN
BEGIN:VEVENT
DTSTART:20190927T000000Z
DTEND:20190927T023000Z
X-MICROSOFT-CDO-ALLDAYEVENT:FALSE
SUMMARY:AMPT Paint n Sip
DESCRIPTION:AMPT is excited to partner with Canvas Creations this month! \n\nWe are hosting a paint and sip event. \n\nThe painting will start at 6:30pm in Sam and Louie's event room but we highly encourage members to show up early to mingle.
X-ALT-DESC;FMTTYPE=text/html:<span style="color: rgb(29\, 33\, 41)\; font-family: Helvetica\, Arial\, sans-serif\; font-size: 14px\; white-space: pre-wrap\;">AMPT is excited to partner with Canvas Creations this month! </span><br style="color: rgb(29\, 33\, 41)\; font-family: Helvetica\, Arial\, sans-serif\; font-size: 14px\; white-space: pre-wrap\;" />\n<span style="color: rgb(29\, 33\, 41)\; font-family: Helvetica\, Arial\, sans-serif\; font-size: 14px\; white-space: pre-wrap\;">We are hosting a paint and sip event. </span><br style="color: rgb(29\, 33\, 41)\; font-family: Helvetica\, Arial\, sans-serif\; font-size: 14px\; white-space: pre-wrap\;" />\n<span style="color: rgb(29\, 33\, 41)\; font-family: Helvetica\, Arial\, sans-serif\; font-size: 14px\; white-space: pre-wrap\;">The painting will start at 6:30pm in Sam and Louie&rsquo\;s event room but we highly encourage members to show up early to mingle. </span>
LOCATION:Sam and Louie's Event Room 310 Main Street Sterling\, Colorado 80751
UID:e.432.15678
SEQUENCE:3
DTSTAMP:20260423T073233Z
URL:https://business.logancountychamber.com/events/details/ampt-paint-n-sip-15678
END:VEVENT

END:VCALENDAR
